BEGIN:VCALENDAR
VERSION:2.0
PRODID:-//Woonona Bulli  RSL - ECPv6.15.16.1//NONSGML v1.0//EN
CALSCALE:GREGORIAN
METHOD:PUBLISH
X-WR-CALNAME:Woonona Bulli  RSL
X-ORIGINAL-URL:https://www.wbrsl.com.au
X-WR-CALDESC:Events for Woonona Bulli  RSL
REFRESH-INTERVAL;VALUE=DURATION:PT1H
X-Robots-Tag:noindex
X-PUBLISHED-TTL:PT1H
BEGIN:VTIMEZONE
TZID:UTC
BEGIN:STANDARD
TZOFFSETFROM:+0000
TZOFFSETTO:+0000
TZNAME:UTC
DTSTART:20220101T000000
END:STANDARD
END:VTIMEZONE
BEGIN:VEVENT
DTSTART;VALUE=DATE:20230308
DTEND;VALUE=DATE:20270109
DTSTAMP:20260420T233022
CREATED:20210302T224813Z
LAST-MODIFIED:20250321T032431Z
UID:1126-1678233600-1799452799@www.wbrsl.com.au
SUMMARY:Member Birthday Offers
DESCRIPTION:WBRSL members get rewarded with special birthday offers during the month of their birthday! 🎂🎉 \n\nClick here to view Birthday_Details \n*Offers are not valid with any other offer or promotion. \nMembers must be financial members of the Club in the month prior to their birthday to access these offers.\nOffers are only valid within members birthday month.\nA current membership card must be presented to staff at the tills in the brasserie\, cafe or bar to access these offers.
URL:https://www.wbrsl.com.au/event-details/birthday-offers/
LOCATION:455 Princes Highway\, Woonona\, NSW\, 2517
CATEGORIES:What's On
ATTACH;FMTTYPE=image/jpeg:https://www.wbrsl.com.au/wp-content/uploads/2021/03/Birthday_Whats_On.jpg
ORGANIZER;CN="Woonona Bulli RSL Club":MAILTO:info@wbrsl.com.au
END:VEVENT
BEGIN:VEVENT
DTSTART;VALUE=DATE:20240806
DTEND;VALUE=DATE:20280101
DTSTAMP:20260420T233022
CREATED:20240305T090014Z
LAST-MODIFIED:20250501T061457Z
UID:2742-1722902400-1830297599@www.wbrsl.com.au
SUMMARY:Pizza Tuesdays
DESCRIPTION:Pizza on Tuesdays has a whole new look! \nWelcome to Pizza Tuesdays at Woonona Bulli RSL Club!Join us every Tuesday evening for an exclusive members-only pizza experience that promises to satisfy your hunger cravings. \nMembers can enjoy $18 Classics and $20 Gourmet pizzas for dinner on Tuesday nights! \n$18 Classics \n\nMargherita\nHam & Pineapple\nBBQ Chicken\nVego Pizza\nNapolitana\n\n$20 Gourmet \n\nDiavola\nThe Deluxe\nMoroccan Pulled Lamb Pizza\nLoaded Meat Lovers\n\nNot a member at Woonona Bulli RSL? Becoming one is easy! Simply visit reception to join OR become a member online here\, and start enjoying the perks immediately. Membership perks don’t end with Tuesdays either— enjoy exclusive benefits and up to a 20% discount on food and beverage. \nNote: This offer is not available on public holidays. Not available with any other promotion.
URL:https://www.wbrsl.com.au/event-details/pizza-tuesdays/2024-08-06/
LOCATION:455 Princes Highway\, Woonona\, NSW\, 2517
CATEGORIES:What's On
ATTACH;FMTTYPE=image/jpeg:https://www.wbrsl.com.au/wp-content/uploads/2024/02/Pizza_WhatsOn.jpg
ORGANIZER;CN="Woonona Bulli RSL Club":MAILTO:info@wbrsl.com.au
END:VEVENT
BEGIN:VEVENT
DTSTART;VALUE=DATE:20241107
DTEND;VALUE=DATE:20280101
DTSTAMP:20260420T233022
CREATED:20240523T021027Z
LAST-MODIFIED:20260331T233449Z
UID:3701-1730937600-1830297599@www.wbrsl.com.au
SUMMARY:Club Cocktails @ WBRSL
DESCRIPTION:Discover WBRSL Club Cocktails! 🍸🍹 \nAvailable Thursday to Sunday\nEnjoy our tasty and refreshing cocktails at the WBRSL Club! Whether you’re a member or a guest\, our bar is open from Thursday to Sunday to serve you your favourite cocktails. \n\nMembers: $15\nNon-Members: $18\n\nIndulge in the perfect blend of flavours in a vibrant and inviting atmosphere. Come thirsty\, leave happy! \nView our Cocktail Menu here. \n \nNot a member of Woonona Bulli RSL Club? Becoming one is easy! Simply visit reception to join OR become a member online here\, and start enjoying the perks immediately. Membership perks don’t end with discounted cocktails either—enjoy exclusive benefits and up to a 20% discount on food and beverage all year round.
URL:https://www.wbrsl.com.au/event-details/club-cocktails-wbrsl/
LOCATION:455 Princes Highway\, Woonona\, NSW\, 2517
ATTACH;FMTTYPE=image/jpeg:https://www.wbrsl.com.au/wp-content/uploads/2024/05/September-Cocktail-WHATSON-–-1.jpg
ORGANIZER;CN="Woonona Bulli RSL Club":MAILTO:info@wbrsl.com.au
END:VEVENT
BEGIN:VEVENT
DTSTART;VALUE=DATE:20241114
DTEND;VALUE=DATE:20280101
DTSTAMP:20260420T233022
CREATED:20211119T032256Z
LAST-MODIFIED:20250711T012706Z
UID:1578-1731542400-1830297599@www.wbrsl.com.au
SUMMARY:Thursday Night Schnitzel
DESCRIPTION:Love a schnitzel? Then you’re in for a treat every Thursday night at our Brasserie with our special Thursday Night $17 Schnitzel offer! \nJoin us Thursday nights and feast on our delicious 250g chicken schnitzel served with chips and salad\, all for the price of just $17! And if you’re feeling adventurous\, you can add on your favorite toppers for just an extra $3. Add gravy for free! \nThis special offer is exclusively for our members\, so if you’re not yet a member\, now’s the perfect time to join!  Sign up at our reception desk OR become a member online here and start enjoying this incredible deal along with many other exclusive benefits. Membership from only $8 a year. \nPlease note that this offer cannot be combined with any other promotions. \nDon’t miss out on the chance to enjoy a scrumptious schnitzel dinner every Thursday night at Woonona Bulli RSL Club. Make your plans now and join us for a meal that’s sure to satisfy your hunger! \nNote: This offer is not available on public holidays. Offer is not available with any other promotion.
URL:https://www.wbrsl.com.au/event-details/thursday-night-schitzel/2024-11-14/
LOCATION:455 Princes Highway\, Woonona\, NSW\, 2517
CATEGORIES:What's On
ATTACH;FMTTYPE=image/jpeg:https://www.wbrsl.com.au/wp-content/uploads/2021/11/Thu_Schnitzel_WhatsOn_v2_WhatsOn-copy-2.jpg
ORGANIZER;CN="Woonona Bulli RSL Club":MAILTO:info@wbrsl.com.au
END:VEVENT
BEGIN:VEVENT
DTSTART;TZID=UTC:20250210T160000
DTEND;TZID=UTC:20271231T180000
DTSTAMP:20260420T233022
CREATED:20250213T023945Z
LAST-MODIFIED:20250313T032109Z
UID:5030-1739203200-1830276000@www.wbrsl.com.au
SUMMARY:Happy Hour at WBRSL Club
DESCRIPTION:Happy Hour at Woonona Bulli RSL Club! 🍻🍷 \nEnjoy great savings with our exclusive Members-Only Happy Hour\, available Monday to Friday from 4 PM to 6 PM. Members can take advantage of discounted tap beer\, house wine\, and soft drinks\, making it the perfect time to relax and unwind. \nView our wine menu. \nNot a member yet? Join today at reception and start enjoying the benefits!
URL:https://www.wbrsl.com.au/event-details/happy-hour-at-wbrsl-club/
LOCATION:455 Princes Highway\, Woonona\, NSW\, 2517
ATTACH;FMTTYPE=image/jpeg:https://www.wbrsl.com.au/wp-content/uploads/2025/02/Happy_Hour_WhatsOn_Feb_2025.jpg
ORGANIZER;CN="Woonona Bulli RSL Club":MAILTO:info@wbrsl.com.au
END:VEVENT
BEGIN:VEVENT
DTSTART;VALUE=DATE:20250214
DTEND;VALUE=DATE:20280101
DTSTAMP:20260420T233022
CREATED:20240524T034517Z
LAST-MODIFIED:20250313T021857Z
UID:3721-1739491200-1830297599@www.wbrsl.com.au
SUMMARY:Wings & Ribs Platter SPECIAL
DESCRIPTION:Indulge in the ultimate feast every Friday\, Saturday and Sunday\, lunch and dinner\, at WBRSL Club! Our Wings and Ribs Platter is a mouthwatering combination perfect for satisfying your weekend cravings. 🍽🍗👌 \nWINGS AND RIBS PLATTER\n\nHalf rack pork ribs\nChicken wings\nCheesy corn\nOnion rings\ncreamy slaw\nsweet cornichons\nchips\n\nOnly $40 a platter for members! \nThis special offer is exclusively for our members\, so if you’re not yet a member\, now’s the perfect time to join!  Sign up at our reception desk OR become a member online here\, and start enjoying this incredible deal along with many other exclusive benefits. Membership from only $8 a year.
URL:https://www.wbrsl.com.au/event-details/wings-ribs-platter-special/
LOCATION:455 Princes Highway\, Woonona\, NSW\, 2517
ATTACH;FMTTYPE=image/jpeg:https://www.wbrsl.com.au/wp-content/uploads/2024/05/Fri-Sat-Wings-Ribs-1.jpg
ORGANIZER;CN="Woonona Bulli RSL Club":MAILTO:info@wbrsl.com.au
END:VEVENT
BEGIN:VEVENT
DTSTART;VALUE=DATE:20250305
DTEND;VALUE=DATE:20280101
DTSTAMP:20260420T233022
CREATED:20230706T001300Z
LAST-MODIFIED:20260415T064648Z
UID:2322-1741132800-1830297599@www.wbrsl.com.au
SUMMARY:Rump and Pour - Wednesday Night
DESCRIPTION:Our Steakout night just got an upgrade! \nWednesday night is now Rump & Pour night at Woonona Bulli RSL! \nEnjoy a 250g Range Rump Steak served with chips\, salad\, and your choice of gravy\, AND you can now get a schooner of house beer OR a 150ml glass of house wine all for just $20 every Wednesday night! \nIf you prefer mash and vegetables\, you can add them on for just an extra $2. \nNot yet a member? No problem! Joining is simple. Just stop by our reception desk to sign up OR become a member online here and start enjoying the perks right away. \nEnjoy exclusive perks and receive up to a generous 20% discount on food and beverage purchases throughout the year. \nCome on down for Rump & Pour Night on Wednesdays and savor our mouthwatering steak offer that’s sure to satisfy your cravings. Don’t miss out on this fantastic deal\, exclusive to members. \nNote: This Offer is not available on public holidays. Offer is not valid with any other promotion.
URL:https://www.wbrsl.com.au/event-details/steak-out-steak-night-wednesdays/
LOCATION:455 Princes Highway\, Woonona\, NSW\, 2517
CATEGORIES:What's On
ATTACH;FMTTYPE=image/png:https://www.wbrsl.com.au/wp-content/uploads/2023/07/RAP_WhatsOn.png
ORGANIZER;CN="Woonona Bulli RSL Club":MAILTO:info@wbrsl.com.au
END:VEVENT
BEGIN:VEVENT
DTSTART;TZID=UTC:20250317T173000
DTEND;TZID=UTC:20271231T210000
DTSTAMP:20260420T233022
CREATED:20230706T000942Z
LAST-MODIFIED:20250501T062045Z
UID:2244-1742232600-1830286800@www.wbrsl.com.au
SUMMARY:Pasta Night Mondays
DESCRIPTION:Welcome to Pasta Night Mondays at Woonona Bulli RSL! Mondays just got a whole lot tastier with our irresistible pastas. \nJoin us Monday nights for an experience that is sure to satisfy your pasta cravings\, and all for just $15! \nChoose from: \n\nBOSCAIOLA with a side of garlic bread\nBOLOGNESE with a side of garlic bread\n\nChoose between spaghetti\, linguini or penne. \n \nNot a member at Woonona Bulli RSL? Becoming one is easy! Simply visit reception to join OR become a member online here\, and start enjoying the perks immediately. Membership perks don’t end with Pasta Night Mondays—enjoy year-round privileges and receive up to a generous 20% discount on food and beverages. \nThis irresistible offer is exclusive to members and excludes public holidays. Don’t miss out on the opportunity to treat yourself to a sensational pasta feast every Monday at Woonona Bulli RSL! Offer is not available with any other promotion.
URL:https://www.wbrsl.com.au/event-details/pasta-night-mondays/
LOCATION:455 Princes Highway\, Woonona\, NSW\, 2517
CATEGORIES:What's On
ATTACH;FMTTYPE=image/jpeg:https://www.wbrsl.com.au/wp-content/uploads/2023/07/Pasta_WhatsOn.jpg
ORGANIZER;CN="Woonona Bulli RSL Club":MAILTO:info@wbrsl.com.au
END:VEVENT
BEGIN:VEVENT
DTSTART;VALUE=DATE:20250514
DTEND;VALUE=DATE:20270515
DTSTAMP:20260420T233023
CREATED:20250515T090025Z
LAST-MODIFIED:20250710T023443Z
UID:5260-1747180800-1810339199@www.wbrsl.com.au
SUMMARY:Bump Up Your Lunch!
DESCRIPTION:Introducing our exclusive members offer: Bump Up Your Lunch at Woonona Bulli RSL Club! \nFor only $6 extra from Monday to Friday\, members can bump up their lunch with either a glass of house wine\, a schooner of house beer\, or soft drink. Alternatively\, you can opt for a delicious coffee and slice from our Café to complement your meal. This offer is valid for meals $13.90 and over. Offer not available public holidays. Offer is not available with any other promotion. \nNot yet a member of Woonona Bulli RSL? Don’t miss out on the fantastic benefits that come with membership! Sign up today at our reception desk OR become a member online here\, and start enjoying privileges like this Bump Up Your Lunch offer\, along with many other exclusive deals and perks. \nDon’t settle for an ordinary lunch when you can bump it up for just $6 more. Join us at Woonona Bulli RSL Club and make your weekday lunches a delightful affair! \nValid Monday to Friday ONLY. This is a member’s only offer. Not valid with any other offer. Drink voucher will be issued and must be redeemed on the day.\nDrink voucher is valid for a schooner of house beer (New\, VB\, Carlton Draught\, Gold\, Light\, Great Northern or Old)\, small glass of house wine or a glass of post mix.\nCoffee and Slice voucher should be redeemed from our café.\nCoffee Voucher and slice voucher is valid for a cup or mug of coffee or tea and a slice on the day only.\nMembers must present a current membership card when ordering to trigger the promotion.\nVouchers must be redeemed within the same day as they are issued. Offer is not available on Public Holidays. Offer not available with any other promotion.
URL:https://www.wbrsl.com.au/event-details/bump-up-your-lunch-2/2025-05-14/
LOCATION:455 Princes Highway\, Woonona\, NSW\, 2517
CATEGORIES:What's On
ATTACH;FMTTYPE=image/jpeg:https://www.wbrsl.com.au/wp-content/uploads/2025/05/Whats-On-BUYL.jpg
ORGANIZER;CN="Woonona Bulli RSL Club":MAILTO:info@wbrsl.com.au
END:VEVENT
BEGIN:VEVENT
DTSTART;TZID=UTC:20260108T100000
DTEND;TZID=UTC:20261108T193000
DTSTAMP:20260420T233023
CREATED:20250214T001401Z
LAST-MODIFIED:20260106T223604Z
UID:5037-1767866400-1794166200@www.wbrsl.com.au
SUMMARY:Weekly Meat Raffles
DESCRIPTION:Join us for our weekly Meat Raffles! 🥩🌿\nOver $2000 worth of meat trays and vouchers to be won each week!\nTHURSDAY NIGHT MEAT RAFFLES\nTo be won on Thursdays:\n– 20 x $40 Meat trays\n– 2 x $50 Illawarra Smallgoods Vouchers\n– 2 x Coles Myer $50 vouchers \nSUNDAY NIGHT MEAT RAFFLES\nTo be won on Sundays:\n– 20 x $40 Meat trays\n– 2 x $50 Illawarra Smallgoods Vouchers\n– 2 x Coles Myer $50 vouchers\n– 2 x $50 BIG ONES (in BONUS POINTS for Members) ✨ \nTicket sales for each meat raffle start at 5:30pm and our raffles drawn at 6:30pm. \nMembers receive $10 worth of bonus tickets for every $10 worth of meat raffle tickets purchased! \nNot yet a member? No problem! Joining is simple. Just stop by our reception desk to sign up OR become a member online here and start enjoying the perks right away. And remember\, the benefits of membership extend far beyond ones like this. Enjoy exclusive perks and receive up to a generous 20% discount on food and beverage purchases throughout the year. \n\n 
URL:https://www.wbrsl.com.au/event-details/weekly-meat-raffles/
LOCATION:455 Princes Highway\, Woonona\, NSW\, 2517
ATTACH;FMTTYPE=image/jpeg:https://www.wbrsl.com.au/wp-content/uploads/2025/02/Meat-Raffles-WhatsOn.jpg
ORGANIZER;CN="Woonona Bulli RSL Club":MAILTO:info@wbrsl.com.au
END:VEVENT
BEGIN:VEVENT
DTSTART;TZID=UTC:20260304T080000
DTEND;TZID=UTC:20260425T090000
DTSTAMP:20260420T233023
CREATED:20260305T050025Z
LAST-MODIFIED:20260305T050157Z
UID:5810-1772611200-1777107600@www.wbrsl.com.au
SUMMARY:ANZAC Day 2026
DESCRIPTION:Join us on Saturday 25th April 2026 at Woonona Bulli RSL Club as we come together to commemorate ANZAC Day 2026. \nOur Club will open at 5:00am\, with the Dawn Service commencing promptly at 6:00am. We invite members\, guests and the wider community to gather in remembrance and reflection as we honour the service and sacrifice of our veterans. \nBreakfast will be served following the Dawn Service – $12 per person.\nPlease note: Walk-ins only. No prior bookings will be accepted. \nFrom 12:00pm to 3:00pm\, we will have live entertainment\, with a relaxed and family-friendly atmosphere. There will be games for the whole family to enjoy as we spend the afternoon together in community spirit. \nWe kindly remind all guests:\nRespect the Day – No Two-Up will be conducted on this day. \nLest We Forget 📯
URL:https://www.wbrsl.com.au/event-details/anzac-day-2026/
LOCATION:455 Princes Highway\, Woonona\, NSW\, 2517
ATTACH;FMTTYPE=image/png:https://www.wbrsl.com.au/wp-content/uploads/2026/03/Anzac-Day-2026-Whats-On-–-1.png
ORGANIZER;CN="Woonona Bulli RSL Club":MAILTO:info@wbrsl.com.au
END:VEVENT
BEGIN:VEVENT
DTSTART;TZID=UTC:20260331T080000
DTEND;TZID=UTC:20260510T170000
DTSTAMP:20260420T233023
CREATED:20260401T004042Z
LAST-MODIFIED:20260401T034237Z
UID:5861-1774944000-1778432400@www.wbrsl.com.au
SUMMARY:2026 Mother's Day Lunch
DESCRIPTION:Mother’s Day at Woonona Bulli RSL\nCelebrate Mum with a Special Lunch \nMake this Mother’s Day unforgettable at Woonona Bulli RSL on Sunday 10th May 2026.\nWe’re taking bookings for lunch from 11am (and dinner too!) where Mum can enjoy anything from our full menu plus special Mother’s Day blackboard specials.\nSeats are limited\, so bookings are essential!\nAll Mums joining us for lunch will receive a complimentary mimosa on arrival.\nPlus\, enjoy free live entertainment from 11:30am to 2:30pm\, creating the perfect ambiance for your special day.\nEvery guest will also go into the draw for our lucky door prize – because Mum deserves to be spoiled!\nBook your table now to secure your spot for this memorable celebration. \nPre-Order Our Deluxe Seafood Platter ahead of the day. \nTake your Mother’s Day feast to the next level with our spectacular Seafood Platter for Two for just $99.\nThis generous platter serves 2 and includes Sydney rock oysters\, grilled king prawns\, blue swimmer crab\, oysters Kilpatrick\, Morten Bay bug in chili lemon butter sauce\, battered fish\, calamari\, coconut tempura prawns\, fresh king prawns\, lemon peppered squid\, salad\, rice\, coleslaw\, hot chips\, and condiments.\nPerfect for sharing with mum or as a centrepiece for your celebration!\nPre-orders and full payment are now being accepted until Monday 4th May 2026 – don’t miss out on this amazing offer.\nContact us today to secure your seafood platter and make Mum’s day truly special. \nTo book your table or pre-order your seafood platter\, call us today on 4284 1577!\n \nMother’s Day Blackboard Specials:\nCHICKEN AND AVOCADO PIZZA\nPomodoro\, mozzarella cheese\, cherry tomatoes\, capsicum\, onion\, baby spinach topped with hollandaise sauce\n$25 \nSEAFOOD MARINARA\nMixed seafood\, prawns\, salmon\, scallops\, squid and muscles in a garlic\, wine\, and tomato sauce served with spaghetti\n$30 \nGRILLED JOHN DORY\nServed with smashed chats\, steamed greens\, topped with lemon and caper butter\n$32 \nGRILLED MORTEN BAY BUGS\nWith steamed fragrant jasmine rice and chilli lemon butter sauce\n$36 \nGRILLED SIRLOIN FILLET SURF AND TURF\n250g Char-grill sirloin fillet with roasted sweet potato\, honey glazed dutch carrots\, topped with creamy garlic prawns\n$42 \n(Members price shown)\nNot a member? Join today from as little as $8\, to receive up to 20% discount on non-member food and beverage pricing. Join here.
URL:https://www.wbrsl.com.au/event-details/2026-mothers-day-lunch/
LOCATION:455 Princes Highway\, Woonona\, NSW\, 2517
ATTACH;FMTTYPE=image/jpeg:https://www.wbrsl.com.au/wp-content/uploads/2026/03/Mothers-Day-Lunch-Whats-On-1167x873-1.jpg
ORGANIZER;CN="Woonona Bulli RSL Club":MAILTO:info@wbrsl.com.au
END:VEVENT
BEGIN:VEVENT
DTSTART;TZID=UTC:20260402T130000
DTEND;TZID=UTC:20260425T150000
DTSTAMP:20260420T233023
CREATED:20250724T065519Z
LAST-MODIFIED:20260402T064945Z
UID:5448-1775134800-1777129200@www.wbrsl.com.au
SUMMARY:David Clark LIVE at WBRSL Club
DESCRIPTION:Join us for lunch and live music on ANZAC Day! \nDavid Clark is playing from 12pm – 3:30pm on Saturday\, 25 April.\n\n\nDave Clark is no stranger to the Microphone or performance. He has opened for the Illawarra theme band ‘The Zombies Showband’. and their alter ego ‘Altered States’ on a number of occasions\, along with solo performances at ‘The Vault’ in Port Kembla.
URL:https://www.wbrsl.com.au/event-details/mark-dabin-live-at-wbrsl-club/
LOCATION:455 Princes Highway\, Woonona\, NSW\, 2517
CATEGORIES:What's On
ATTACH;FMTTYPE=image/png:https://www.wbrsl.com.au/wp-content/uploads/2025/07/Entertainment-April_DavidClark_WhatsON.png
ORGANIZER;CN="Woonona Bulli RSL Club":MAILTO:info@wbrsl.com.au
END:VEVENT
BEGIN:VEVENT
DTSTART;TZID=UTC:20260402T130000
DTEND;TZID=UTC:20260426T153000
DTSTAMP:20260420T233023
CREATED:20260402T065610Z
LAST-MODIFIED:20260402T065610Z
UID:5875-1775134800-1777217400@www.wbrsl.com.au
SUMMARY:Mick on Wheels LIVE at WBRSL Club
DESCRIPTION:Join us for lunch and live music! \nMick on Wheels is playing from 1pm – 4pm on Sunday\, 26 April.\n\n\nAs a professional singer\, entertainer Mick on Wheels has been working in the music industry since 1997. With a powerful vocal range and amazing tone\, Mick’s voice has been compared to that of our very own John Farnham.
URL:https://www.wbrsl.com.au/event-details/mick-on-wheels-live-at-wbrsl-club/
LOCATION:455 Princes Highway\, Woonona\, NSW\, 2517
CATEGORIES:What's On
ATTACH;FMTTYPE=image/png:https://www.wbrsl.com.au/wp-content/uploads/2026/04/Entertainment-April_MickOnWheels_WhatsON.png
ORGANIZER;CN="Woonona Bulli RSL Club":MAILTO:info@wbrsl.com.au
END:VEVENT
BEGIN:VEVENT
DTSTART;TZID=UTC:20260409T080000
DTEND;TZID=UTC:20260510T185900
DTSTAMP:20260420T233023
CREATED:20260410T034732Z
LAST-MODIFIED:20260410T035640Z
UID:5891-1775721600-1778439540@www.wbrsl.com.au
SUMMARY:Mother's Day Raffle - 2026
DESCRIPTION:2026 Mother’s Day Raffle at Woonona Bulli RSL Club\nEnter this years’ Mother’s Day Raffle for your chance to win this amazing package! \nPrize includes:\n* Hamper Emporium  Sweet Bites Hamper – This sweet hamper is that dream brought to life and it’s the ultimate gift for someone with a sweet tooth! Includes Maggie Beer’s Dark Chocolate & Vino Cotto Caramel and Morgan’s Toffee Popcorn Brittle.\n* $250 Red Balloon Voucher – Redeem online or over the phone for any one of Red Balloons enriching experiences on offer.\n* A bottle of Bubbly! \nOne lucky winner will win the whole package! \nTickets are only $3 each. Enter as many times as you like!\nThis is a members only raffle. Drawn Sunday 10th May at 7:00pm.\nThe winner will be notified by phone. Purchase your tickets at reception the next time you visit.
URL:https://www.wbrsl.com.au/event-details/mothers-day-raffle-2026/
LOCATION:455 Princes Highway\, Woonona\, NSW\, 2517
CATEGORIES:What's On
ATTACH;FMTTYPE=image/png:https://www.wbrsl.com.au/wp-content/uploads/2026/04/Mothers-Day-Rafle-Whats-On-2026.png
ORGANIZER;CN="Woonona Bulli RSL Club":MAILTO:info@wbrsl.com.au
END:VEVENT
BEGIN:VEVENT
DTSTART;TZID=UTC:20260409T080000
DTEND;TZID=UTC:20270228T170000
DTSTAMP:20260420T233023
CREATED:20260414T232731Z
LAST-MODIFIED:20260415T020759Z
UID:5899-1775721600-1803834000@www.wbrsl.com.au
SUMMARY:New Brasserie Menu
DESCRIPTION:Our Brasserie unveiled a brand new menu this week which is sure to be a hit!\nAll the favourites remain PLUS a range of mouthwatering new dishes! \n        \nWe have continued to deliver value for money with this new menu\, with Bump Up Your Lunch specials and fantastic member only specials like our:\n* $15 Pasta night on Monday nights\n* $18 Classic Pizzas / $20 Classic Pizzas on Tuesday nights\n* Our Upgraded version of Steakout Night – Now called Rump & Pour – Same meal\, same price\, now includes either a schooner of house beer or 150ml glass of house wine with the meal for only $20!\n* $17 Chicken Schnitzel – On Thursday nights\n* Wings & Ribs platter for 2 for only $40 – Friday to Sunday \nOur new menu also has the biggest and healthiest range of kids meals in the Illawarra with options for meals to come with a side of rice\, mash\, salad\, vegetables or chips. \nOPEN & DAYS – Lunch and Dinner\nLunch from 11:30am – 2:30pm\nDinner from 5:30pm – 8:30pm weekdays and from 5:00pm on weekends.\n\nTable bookings are not essential but can be made by calling the Club on 4284 1577
URL:https://www.wbrsl.com.au/event-details/new-brasserie-menu/
ATTACH;FMTTYPE=image/jpeg:https://www.wbrsl.com.au/wp-content/uploads/2026/04/Brasserie-Lofo-with-Cornflower-BG-2026.jpg
END:VEVENT
END:VCALENDAR